BEGIN:VCALENDAR
VERSION:2.0
PRODID:-//Edlink+Connex - ECPv6.15.20//NONSGML v1.0//EN
CALSCALE:GREGORIAN
METHOD:PUBLISH
X-WR-CALNAME:Edlink+Connex
X-ORIGINAL-URL:https://edlinkconnex.com/news
X-WR-CALDESC:Events for Edlink+Connex
REFRESH-INTERVAL;VALUE=DURATION:PT1H
X-Robots-Tag:noindex
X-PUBLISHED-TTL:PT1H
BEGIN:VTIMEZONE
TZID:Asia/Jakarta
BEGIN:STANDARD
TZOFFSETFROM:+0700
TZOFFSETTO:+0700
TZNAME:WIB
DTSTART:20240101T000000
END:STANDARD
END:VTIMEZONE
BEGIN:VEVENT
DTSTART;VALUE=DATE:20251103
DTEND;VALUE=DATE:20260225
DTSTAMP:20260425T022456
CREATED:20251031T031849Z
LAST-MODIFIED:20260204T034326Z
UID:7473-1762128000-1771977599@edlinkconnex.com
SUMMARY:WEBINAR SERIES
DESCRIPTION:WEBINAR SERIES by Edlink+ConneX x LingGo English \nJoin our Monthly Webinar Sessions from Top Australia\, Malaysia\, and Singapore Institutions! \nTingkatkan wawasan dan persiapkan masa depan akademikmu lewat Webinar Series eksklusif dari Edlink+ConneX dan LingGo English! \nSetiap bulan\, kamu bisa: \n\nMendapatkan informasi terbaru langsung dari universitas ternama di Australia\, Malaysia\, dan Singapura.\nBelajar tips sukses studi dan persiapan beasiswa luar negeri.\nKonsultasi langsung dengan perwakilan universitas & konselor berpengalaman Edlink+ConneX.\nMeningkatkan kemampuan bahasa Inggris bersama LingGo English\, platform persiapan IELTS dan akademik pilihan pelajar Indonesia.\n\nDaftar dan mulai langkah pertamamu menuju studi internasional!
URL:https://edlinkconnex.com/news/event/webinar-series/
LOCATION:Online Zoom
ATTACH;FMTTYPE=image/jpeg:https://edlinkconnex.com/news/wp-content/uploads/2025/10/Banner-WordPress-LingGo.jpg
END:VEVENT
BEGIN:VEVENT
DTSTART;VALUE=DATE:20251208
DTEND;VALUE=DATE:20251213
DTSTAMP:20260425T022456
CREATED:20251111T170930Z
LAST-MODIFIED:20251112T032652Z
UID:7545-1765152000-1765583999@edlinkconnex.com
SUMMARY:Pathways to Global Education: Swiss - New Zealand Collaboration
DESCRIPTION:Dua negara\, satu tujuan: Switzerland dan New Zealand untuk masa depanmu! \nJoin 𝐏𝐚𝐭𝐡𝐰𝐚𝐲𝐬 𝐭𝐨 𝐆𝐥𝐨𝐛𝐚𝐥 𝐄𝐝𝐮𝐜𝐚𝐭𝐢𝐨𝐧 bersama Swiss Education Group dan Auckland University of Technology di mana kamu nggak cuma dapetin info mengenai program kolaborasi akademik antara Swiss dan New Zealand\, tapi juga belajar langsung how to lead with impact lewat seminar “Mastering Leadership: Essential Skills and Effective Styles” dan Workshop “The Lego Challenge”.
URL:https://edlinkconnex.com/news/event/pathways-to-global-education-swiss-new-zealand-collaboration/
ATTACH;FMTTYPE=image/webp:https://edlinkconnex.com/news/wp-content/uploads/2025/11/Image-WP-Papua.webp
END:VEVENT
BEGIN:VEVENT
DTSTART;VALUE=DATE:20251213
DTEND;VALUE=DATE:20251214
DTSTAMP:20260425T022456
CREATED:20251115T030550Z
LAST-MODIFIED:20251116T151003Z
UID:7559-1765584000-1765670399@edlinkconnex.com
SUMMARY:MONASH UNIVERSITY INDONESIA  FUTURE STUDENTS’ INFORMATION SESSION
DESCRIPTION:Mau kuliah di Monash University\, tanpa harus packing koper ke luar negeri? Saatnya kenalan lebih dekat dengan Monash University Indonesia! \n𝐉𝐨𝐢𝐧 𝐅𝐮𝐭𝐮𝐫𝐞 𝐒𝐭𝐮𝐝𝐞𝐧𝐭𝐬’ 𝐈𝐧𝐟𝐨𝐫𝐦𝐚𝐭𝐢𝐨𝐧 𝐒𝐞𝐬𝐬𝐢𝐨𝐧 buat dapetin:\n1. Info mengenai program studi S1 dan S2 di Monash University Indonesia\n2. Info beasiswa yang tersedia di Monash University Indonesia\n3. Insider tips kuliah langsung dari perwakilan resmi Monash University Indonesia\n4. Konsultasi GRATIS bareng tim Monash University Indonesia dan konsultan Edlink+ConneX secara hybrid\, (yes\, you heard it right\, kamu bisa join offline atau via Zoom!) \n\nUntuk info lebih lanjut hubungi 🤳🏻 0817 716 899 / 0878 7417 7788 via WhatsApp.
URL:https://edlinkconnex.com/news/event/monash-university-indonesia-future-students-information-session/
ATTACH;FMTTYPE=image/jpeg:https://edlinkconnex.com/news/wp-content/uploads/2025/11/MUI-Tangerang-Info-Session-Image-Web.jpg
END:VEVENT
END:VCALENDAR