BEGIN:VCALENDAR
VERSION:2.0
PRODID:-//Edlink+Connex - ECPv6.15.20//NONSGML v1.0//EN
CALSCALE:GREGORIAN
METHOD:PUBLISH
X-ORIGINAL-URL:https://edlinkconnex.com/news
X-WR-CALDESC:Events for Edlink+Connex
REFRESH-INTERVAL;VALUE=DURATION:PT1H
X-Robots-Tag:noindex
X-PUBLISHED-TTL:PT1H
BEGIN:VTIMEZONE
TZID:Asia/Jakarta
BEGIN:STANDARD
TZOFFSETFROM:+0700
TZOFFSETTO:+0700
TZNAME:WIB
DTSTART:20240101T000000
END:STANDARD
END:VTIMEZONE
BEGIN:VEVENT
DTSTART;VALUE=DATE:20251103
DTEND;VALUE=DATE:20260225
DTSTAMP:20260425T033556
CREATED:20251031T031849Z
LAST-MODIFIED:20260204T034326Z
UID:7473-1762128000-1771977599@edlinkconnex.com
SUMMARY:WEBINAR SERIES
DESCRIPTION:WEBINAR SERIES by Edlink+ConneX x LingGo English \nJoin our Monthly Webinar Sessions from Top Australia\, Malaysia\, and Singapore Institutions! \nTingkatkan wawasan dan persiapkan masa depan akademikmu lewat Webinar Series eksklusif dari Edlink+ConneX dan LingGo English! \nSetiap bulan\, kamu bisa: \n\nMendapatkan informasi terbaru langsung dari universitas ternama di Australia\, Malaysia\, dan Singapura.\nBelajar tips sukses studi dan persiapan beasiswa luar negeri.\nKonsultasi langsung dengan perwakilan universitas & konselor berpengalaman Edlink+ConneX.\nMeningkatkan kemampuan bahasa Inggris bersama LingGo English\, platform persiapan IELTS dan akademik pilihan pelajar Indonesia.\n\nDaftar dan mulai langkah pertamamu menuju studi internasional!
URL:https://edlinkconnex.com/news/event/webinar-series/
LOCATION:Online Zoom
ATTACH;FMTTYPE=image/jpeg:https://edlinkconnex.com/news/wp-content/uploads/2025/10/Banner-WordPress-LingGo.jpg
END:VEVENT
BEGIN:VEVENT
DTSTART;TZID=Asia/Jakarta:20251108T130000
DTEND;TZID=Asia/Jakarta:20251108T170000
DTSTAMP:20260425T033556
CREATED:20251017T071024Z
LAST-MODIFIED:20251017T075930Z
UID:7411-1762606800-1762621200@edlinkconnex.com
SUMMARY:Curtin Open Day Surabaya
DESCRIPTION:Siap-siap\, masa depan global kamu dimulai dari sini! Mau kuliah di luar negeri dan dapet beasiswa? Yuk\, kenalan langsung sama tim dari Curtin University\, kampus internasional dengan pilihan studi di Perth (Australia)\,  Miri (Malaysia) dan Singapore \nDatang ke 𝐂𝐮𝐫𝐭𝐢𝐧 𝐎𝐩𝐞𝐧 𝐃𝐚𝐲 Surabaya dan cari tahu jurusan\, peluang beasiswa\, sampai pengalaman kuliah di luar negeri langsung dari sumbernya! \n📅 Sabtu\, 8 November 2025\n⏰ 13.00 – 17.00 WIB\n📍Four Points Tunjungan Plaza \n💰 Beasiswa tersedia!\nDaftar GRATIS sekarang
URL:https://edlinkconnex.com/news/event/curtin-open-day-surabaya/
LOCATION:Four Points Tunjungan Plaza\, Jl. Embong Malang No.25-31\, Kedungdoro\, Kec. Tegalsari\, Surabaya\, Jawa Timur 60261\, Surabaya\, Surabaya\, 60261\, Indonesia
ATTACH;FMTTYPE=image/jpeg:https://edlinkconnex.com/news/wp-content/uploads/2025/10/Image-Website-News.jpg
END:VEVENT
BEGIN:VEVENT
DTSTART;TZID=Asia/Jakarta:20251109T130000
DTEND;TZID=Asia/Jakarta:20251109T170000
DTSTAMP:20260425T033556
CREATED:20251017T064930Z
LAST-MODIFIED:20251017T073716Z
UID:7404-1762693200-1762707600@edlinkconnex.com
SUMMARY:Curtin Open Day Jakarta
DESCRIPTION:Siap-siap\, masa depan global kamu dimulai dari sini! Mau kuliah di luar negeri dan dapet beasiswa? Yuk\, kenalan langsung sama tim dari Curtin University\, kampus internasional dengan pilihan studi di Perth (Australia)\,  Miri (Malaysia) dan Singapore \nDatang ke 𝐂𝐮𝐫𝐭𝐢𝐧 𝐎𝐩𝐞𝐧 𝐃𝐚𝐲 𝐉𝐀𝐊𝐀𝐑𝐓𝐀 dan cari tahu jurusan\, peluang beasiswa\, sampai pengalaman kuliah di luar negeri langsung dari sumbernya! \n📅 Minggu\, 9 November 2025\n⏰ 13.00 – 17.00 WIB\n📍 Swissotel PIK\, Jakarta \n💰 Beasiswa tersedia!\nDaftar GRATIS sekarang
URL:https://edlinkconnex.com/news/event/curtin-open-day-jakarta/
LOCATION:Swissotel PIK\, Pantai Indah Kapuk St\, Kamal Muara\, Penjaringan\, Jakarta\, 14470\, DKI Jakarta\, Jakarta\, 14470\, Indonesia
ATTACH;FMTTYPE=image/jpeg:https://edlinkconnex.com/news/wp-content/uploads/2025/10/Image-Website-News.jpg
END:VEVENT
BEGIN:VEVENT
DTSTART;TZID=Asia/Jakarta:20251110T140000
DTEND;TZID=Asia/Jakarta:20251110T160000
DTSTAMP:20260425T033556
CREATED:20251029T164641Z
LAST-MODIFIED:20251030T031209Z
UID:7460-1762783200-1762790400@edlinkconnex.com
SUMMARY:MSM Information Session: Accelerate Your Professional Career
DESCRIPTION:Ingin mempercepat kariermu di dunia bisnis global? Bergabunglah dalam MSM Information Session yang diselenggarakan oleh Maastricht School of Management (MSM)\, bagian dari Maastricht University Belanda\, dan temukan bagaimana program MBA dan Master in Management mereka dapat membuka peluang karier internasional untukmu. \nMelalui sesi ini\, kamu akan mendapatkan wawasan langsung mengenai: \n\nStruktur program Full-Time MBA dan Master in Management MSM.\nPeluang karier global di dunia manajemen dan bisnis.\nTips sukses kuliah dan bekerja di lingkungan internasional.\nProses pendaftaran\, beasiswa\, dan dukungan studi dari MSM & Edlink+ConneX.\n\nMengapa Pilih MSM? \n\nTermasuk dalam Top 3 Business Schools di Belanda.\nTerakreditasi internasional (AMBA\, AACSB\, EQUIS).\nJaringan alumni global di lebih dari 120 negara.\nFokus pada kepemimpinan berkelanjutan dan inovasi bisnis.
URL:https://edlinkconnex.com/news/event/msm-information-session-accelerate-your-professional-career/
LOCATION:Online Zoom
ATTACH;FMTTYPE=image/jpeg:https://edlinkconnex.com/news/wp-content/uploads/2025/10/Banner-WP-MSM-1.jpg
END:VEVENT
BEGIN:VEVENT
DTSTART;TZID=Asia/Jakarta:20251118T150000
DTEND;TZID=Asia/Jakarta:20251118T180000
DTSTAMP:20260425T033556
CREATED:20251104T063400Z
LAST-MODIFIED:20251107T054758Z
UID:7500-1763478000-1763488800@edlinkconnex.com
SUMMARY:MONASH UNIVERSITY INFO SESSION PALEMBANG
DESCRIPTION:Kuliah di salah satu universitas TOP dunia di Melbourne\, Australia ? Konsultasikan dirimu langsung dengan perwakilan resmi Monash University di acara 𝐌𝐨𝐧𝐚𝐬𝐡 𝐔𝐧𝐢𝐯𝐞𝐫𝐬𝐢𝐭𝐲 𝐈𝐧𝐟𝐨𝐫𝐦𝐚𝐭𝐢𝐨𝐧 𝐒𝐞𝐬𝐬𝐢𝐨𝐧 untuk mendapatkan informasi terlengkap dan terbaru mengenai:\n📝 Syarat Masuk\n🎓 Program Studi\n💰 Peluang Beasiswa\n✅ Prospek karir \nJangan lewatkan juga kesempatan untuk mendapatkan 𝐀𝐝𝐝𝐢𝐭𝐢𝐨𝐧𝐚𝐥 𝐒𝐞𝐭𝐭𝐥𝐞𝐦𝐞𝐧𝐭 𝐀𝐥𝐥𝐨𝐰𝐚𝐧𝐜𝐞 senilai AUD 500* dari Edlink+ConneX! 🤩 \n*Syarat & Ketentuan berlaku \nCatat tanggalnya! \n📅 Selasa\, 18 November 2025\n⏰ 15.00 – 18.00 WIB\n📍 Ladaz Coffee & Eatery\nJl. Merbau No.474\, 9 Ilir\, Kec. Ilir Tim. II\nKota Palembang\, Sumatera Selatan 30114
URL:https://edlinkconnex.com/news/event/monash-university-info-session-palembang/
LOCATION:Ladaz Coffee & Eatery\, Jl. Merbau No.474\, 9 Ilir\, Kec. Ilir Tim. II Kota Palembang\, Sumatera Selatan 30114\, Palembang\, Sumatra Selatan\, 30114\, Indonesia
ATTACH;FMTTYPE=image/jpeg:https://edlinkconnex.com/news/wp-content/uploads/2025/11/REV-Banner-Monash-Palembang.jpg
END:VEVENT
BEGIN:VEVENT
DTSTART;TZID=Asia/Jakarta:20251121T140000
DTEND;TZID=Asia/Jakarta:20251121T180000
DTSTAMP:20260425T033556
CREATED:20251107T070755Z
LAST-MODIFIED:20251107T081623Z
UID:7518-1763733600-1763748000@edlinkconnex.com
SUMMARY:MONASH UNIVERSITY INFO SESSION PADANG
DESCRIPTION:Kuliah di salah satu universitas TOP dunia di Melbourne\, Australia ? Konsultasikan dirimu langsung dengan perwakilan resmi Monash University di acara 𝐌𝐨𝐧𝐚𝐬𝐡 𝐔𝐧𝐢𝐯𝐞𝐫𝐬𝐢𝐭𝐲 𝐈𝐧𝐟𝐨𝐫𝐦𝐚𝐭𝐢𝐨𝐧 𝐒𝐞𝐬𝐬𝐢𝐨𝐧 untuk mendapatkan informasi terlengkap dan terbaru mengenai:\n1. Syarat Masuk\n2. Program Studi\n3. Peluang Beasiswa\n4. Prospek karir \nCatat tanggalnya! \n📅 Jumat\, 21 November 2025\n⏰ 14.00 – 18.00 WIB\n📍Truntum Padang Hotel. Jl. Gereja No.34\, Belakang Tangsi\, Kec. Padang Barat. Kota Padang\, Sumatera Barat 25118
URL:https://edlinkconnex.com/news/event/monash-university-info-session-padang/
LOCATION:Truntum Padang Hotel\, Jl. Gereja No.34\, Belakang Tangsi\, Kec. Padang Barat. Kota Padang\, Sumatera Barat 25118\, Sumatera Barat\, 25118\, Indonesia
ATTACH;FMTTYPE=image/jpeg:https://edlinkconnex.com/news/wp-content/uploads/2025/11/REV-Monash-AU-Information-Session-PADANG-Image-Web.jpg
END:VEVENT
BEGIN:VEVENT
DTSTART;TZID=Asia/Jakarta:20251122T100000
DTEND;TZID=Asia/Jakarta:20251122T150000
DTSTAMP:20260425T033556
CREATED:20251113T110353Z
LAST-MODIFIED:20251113T111115Z
UID:7554-1763805600-1763823600@edlinkconnex.com
SUMMARY:Pathway to Australia's Top 8 Universities UNIPREP FOUNDATION OPEN DAY
DESCRIPTION:Bingung harus mulai dari mana untuk kuliah di Australia? Jangan khawatir! Hadiri Uniprep Foundation Open Day dan temukan cara tercepat masuk ke “Group of 8 Universities” Australia. Wujudkan mimpi kuliah di Australia bersama Uniprep Foundation & UNSW College Curriculum. \nHanya di acara ini\, kamu bisa konsultasi langsung\, tes kemampuan bahasa Inggris\, hingga dapat promo biaya pendidikan. \nKenapa Kamu Wajib Datang? \n\nJalur Cepat: Pahami program pathway 9 bulan menggunakan kurikulum UNSW College.\nIELTS Workshop & Test: Ikuti “IELTS Made Easy: Smart Strategies” dan Gratis IELTS Prediction Test bersama TBI.\nMeet the Unis: Konsultasi one-on-one dengan perwakilan UNSW & Macquarie University.\nHemat Biaya: Dapatkan Early Bird Promo hingga IDR 25 Juta!
URL:https://edlinkconnex.com/news/event/pathway-to-australias-top-8-universities-uniprep-foundation-open-day/
LOCATION:USG Education KG Campus\, Suite Life Sedayu City @Kelapa Gading\, Unit Podium 1 Jalan Sedayu City Boulevard\, Jakarta Timur\, Jakarta Utara\, DKI Jakarta\, 13920\, Indonesia
ATTACH;FMTTYPE=image/jpeg:https://edlinkconnex.com/news/wp-content/uploads/2025/11/Image-Banner-Website-2.jpg
END:VEVENT
BEGIN:VEVENT
DTSTART;TZID=Asia/Jakarta:20251122T110000
DTEND;TZID=Asia/Jakarta:20251122T130000
DTSTAMP:20260425T033556
CREATED:20251015T182759Z
LAST-MODIFIED:20251018T022423Z
UID:7396-1763809200-1763816400@edlinkconnex.com
SUMMARY:ACCELERATE YOUR CAREER WITH THE NUS MTECH PROGRAMMES
DESCRIPTION:Transform Your Future at Asia’s #1 University \nBergabunglah dalam sesi virtual informatif untuk mempelajari bagaimana program MTech dari NUS Institute of Systems Science (ISS) dapat meningkatkan prospek karier Anda di panggung global. \nApa yang akan kamu pelajari: \nWawasan Program: \n\n\n\nArtificial Intelligence Systems\nEnterprise Business Analytics\nSoftware Engineering\n\n\n\nProspek Karier: Peluang kerja setelah lulus dari program MTech NUS. \n\nProses Aplikasi: Panduan lengkap dan persyaratan pendaftaran.\nSesi Q&A Langsung: Kesempatan bertanya langsung kepada Mr. Dexton Wong dari NUS.\n\nSesi ini sangat ideal untuk: \n\nMahasiswa tingkat akhir atau fresh graduate dari jurusan relevan (IT\, Teknik\, dll.).\nProfesional yang ingin melakukan upskilling atau beralih karier ke industri teknologi.\nCalon mahasiswa yang ingin melanjutkan studi S2 di Singapura.\n\nDaftar sekarang untuk mendapatkan link ZOOM eksklusif! Tempat terbatas.
URL:https://edlinkconnex.com/news/event/accelerate-your-career-with-the-nus-mtech-programmes/
LOCATION:Online Zoom
ATTACH;FMTTYPE=image/jpeg:https://edlinkconnex.com/news/wp-content/uploads/2025/10/Image-NUS-WordPress-1.jpg
END:VEVENT
BEGIN:VEVENT
DTSTART;TZID=Asia/Jakarta:20251122T130000
DTEND;TZID=Asia/Jakarta:20251122T160000
DTSTAMP:20260425T033556
CREATED:20251008T034614Z
LAST-MODIFIED:20251008T035650Z
UID:7302-1763816400-1763827200@edlinkconnex.com
SUMMARY:MONASH UNIVERSITY INFO SESSION KELAPA GADING
DESCRIPTION:Kuliah di salah satu universitas TOP dunia di Melbourne\, Australia ? Konsultasikan dirimu langsung dengan perwakilan resmi Monash University di acara 𝐌𝐨𝐧𝐚𝐬𝐡 𝐔𝐧𝐢𝐯𝐞𝐫𝐬𝐢𝐭𝐲 𝐈𝐧𝐟𝐨𝐫𝐦𝐚𝐭𝐢𝐨𝐧 𝐒𝐞𝐬𝐬𝐢𝐨𝐧 untuk mendapatkan informasi terlengkap dan terbaru mengenai: \n\nSyarat Masuk\nProgram Studi\nPeluang Beasiswa\nProspek karir\n\nCatat tanggalnya! \n📅 Sabtu\, 22 November 2025 \n⏰ 13.00 – 16.00 WIB \n📍 Edlink+ConneX – Kelapa Gading\, Menara Satu Sentra Kriya Lt. 1 (KARIMUN 1-2 ROOM) \nJl. Boulevard Timur LA 3 No. 1\, Kelapa Gading\, Jakarta Utara \nAcara ini Gratis! Ayo RSVP sekarang
URL:https://edlinkconnex.com/news/event/monash-university-info-session-kelapa-gading/
LOCATION:Edlink+ConneX – Kelapa Gading\, Menara Satu Sentra Kriya Lt. 1 (Karimun Room)\, Jl. Boulevard Timur LA 3 No. 1\, Kelapa Gading\, Jakarta Utara\, Jakarta\, DKI Jakarta\, 14240\, Indonesia
ATTACH;FMTTYPE=image/jpeg:https://edlinkconnex.com/news/wp-content/uploads/2025/10/Monash-AU-Information-Session-KG-Image-Web-1.jpg
END:VEVENT
END:VCALENDAR