BEGIN:VCALENDAR
VERSION:2.0
PRODID:-//Edlink+Connex - ECPv6.15.20//NONSGML v1.0//EN
CALSCALE:GREGORIAN
METHOD:PUBLISH
X-ORIGINAL-URL:https://edlinkconnex.com/news
X-WR-CALDESC:Events for Edlink+Connex
REFRESH-INTERVAL;VALUE=DURATION:PT1H
X-Robots-Tag:noindex
X-PUBLISHED-TTL:PT1H
BEGIN:VTIMEZONE
TZID:Asia/Jakarta
BEGIN:STANDARD
TZOFFSETFROM:+0700
TZOFFSETTO:+0700
TZNAME:WIB
DTSTART:20250101T000000
END:STANDARD
END:VTIMEZONE
BEGIN:VEVENT
DTSTART;TZID=Asia/Jakarta:20260523T100000
DTEND;TZID=Asia/Jakarta:20260523T120000
DTSTAMP:20260424T235835
CREATED:20260414T165531Z
LAST-MODIFIED:20260415T160808Z
UID:8166-1779530400-1779537600@edlinkconnex.com
SUMMARY:SEMINAR KULIAH DI UNIVERSITAS NEGERI MALAYSIA
DESCRIPTION:KULIAH DI UNIVERSITAS NEGERI MALAYSIA: GELAR GLOBAL\, BIAYA LOKAL. \nJangan lewatkan kesempatan untuk mendapatkan insights langsung mengenai peluang kuliah di 10 universitas negeri terbaik di Malaysia! \nHadiri sesi seminar gratis “Kuliah di Universitas Negeri Malaysia: Gelar Global\, Biaya Lokal” bersama Edlink+ConneX. \nHari: Sabtu\, 23 Mei 2026 \nJam: 10.00-12.00 WIB \nLokasi: Edlink+ConneX Bogor\, Ruko D’Esta Unit 12\, Hotel Amaris Pakuan \, Jl. Raya Pajajaran No. 2\, Baranangsiang\, Bogor \nDaftarkan dirimu segera karena tempat terbatas!  \nInfo lebih lanjut hubungi 0811 980 724 / 0811 980 4035 \nDapatkan informasi untuk kuliah di: \n\nUniversiti Malaya\nUniversiti Kebangsaan Malaysia\nUniversiti Putra Malaysia\nUniversiti Sains Islam Malaysia\nUniversiti Teknologi Malaysia\nUniversiti Utara Malaysia\nInternational Islamic University Malaysia\nMalaysia-Japan International Institute of Technology\nUniversiti Malaysia Terengganu\nUniversity Malaya-Wales\n\n\n                    SEMINAR KULIAH DI UNIVERSITAS NEGERI MALAYSIADAFTAR SEMINAR KULIAH DI UNIVERSITAS NEGERI MALAYSIA  Nama LengkapAlamat EmailNomor WhatsApp (+62)Pendidikan Terakhir- Select -SMA 1SMA 2SMA 3SMKS1Orang TuaLainnyaProgram Studi / Jurusan yang DiminatiUniversitas yang ditujuUniversiti MalayaUniversiti Kebangsaan MalaysiaUniversiti Putra MalaysiaUniversiti Sains Islam MalaysiaUniversiti Teknologi MalaysiaUniversiti Utara MalaysiaInternational Islamic University MalaysiaMalaysia-Japan International Institute of TechnologyUniversiti Malaysia TerengganuUniversity Malaya-WalesLainnyaSubmit
URL:https://edlinkconnex.com/news/event/seminar-kuliah-di-universitas-negeri-malaysia-gelar-global-biaya-lokal/
LOCATION:Edlink+ConneX Bogor\, Ruko D'Esta Unit 12\, Hotel Amaris Pakuan\, Bogor\, Jawa Barat\, 16143\, Indonesia
ATTACH;FMTTYPE=image/png:https://edlinkconnex.com/news/wp-content/uploads/2026/04/Banner-WordPress.png
END:VEVENT
BEGIN:VEVENT
DTSTART;TZID=Asia/Jakarta:20260523T110000
DTEND;TZID=Asia/Jakarta:20260523T140000
DTSTAMP:20260424T235835
CREATED:20260410T162000Z
LAST-MODIFIED:20260413T095910Z
UID:8149-1779534000-1779544800@edlinkconnex.com
SUMMARY:The University of Melbourne Info Session Kelapa Gading
DESCRIPTION:Pengen kuliah di universitas terbaik Australia? Kenali lebih dekat The University of Melbourne dan temukan semua informasi yang kamu butuhkan langsung dari perwakilannya!  The University of Melbourne adalah universitas riset terkemuka yang berdiri sejak 1853 di Melbourne\, Australia. \n🏆 #1 di Australia (QS World University Rankings 2026) \n💼 No. 8 Graduate Employability Worldwide (QS Graduate Employability 2022) \nLulusan UniMelb diakui dan dicari oleh perusahaan terbaik di seluruh dunia. \n  \nDetail Acara : \n📅 Sabtu\, 23 Mei 2026 \n🕙 11:00 – 14:00 WIB \n📍Edlink+ConneX Kelapa Gading\,  Menara Satu Sentra Kriya (Karimun Room) Jl. Boulevard Timur LA 3 No. 1\, Kelapa Gading \n\n                    The University of Melbourne Info Session Kelapa GadingThe University of Melbourne Info Session Kelapa Gading\n  Full NameMobile Phone NumberEmail AddressCurrent Education Level- Select -Year 10 Equivalent or BelowYear 11 / SMA 2Year 12 / SMA 3FoundationDiplomaBachelor Degree / S1Master Degree / S2ParentName Your Current or Previous School / University / WorkplaceWhat Level of Study Are You Interested in- Select -Undergraduate CoursesGraduate CoursesGraduate ResearchStudy Program Interest at The University of Melbourne- Select -Agricultural and Veterinary SciencesArchitecture\, Building\, Planning and DesignArts\, Humanities and Social SciencesBusiness and EconomicsEducationEngineeringEnvironmentInformation Technology and Computer ScienceLawMusic\, Visual and Performing ArtsScienceWhen do you plan to commence your studies at The University of Melbourne- Select -20262027Beyond 2027Do you have IELTS- Select -YesNoChoose Your Nearest Edlink+ConneX Branch:- Select -Jakarta – SudirmanJakarta – Kelapa GadingJakarta – Pantai Indah KapukJakarta – Kebon JerukJakarta – SimatupangBogorTangerangSubmit
URL:https://edlinkconnex.com/news/event/the-university-of-melbourne-info-session-kelapa-gading/
LOCATION:Edlink+ConneX – Kelapa Gading\, Menara Satu Sentra Kriya Lt. 1 (Karimun Room)\, Jl. Boulevard Timur LA 3 No. 1\, Kelapa Gading\, Jakarta Utara\, Jakarta\, DKI Jakarta\, 14240\, Indonesia
ATTACH;FMTTYPE=image/png:https://edlinkconnex.com/news/wp-content/uploads/2026/04/FEED-SQUARE-1.png
END:VEVENT
END:VCALENDAR