BEGIN:VCALENDAR
VERSION:2.0
PRODID:-//Edlink+Connex - ECPv6.15.20//NONSGML v1.0//EN
CALSCALE:GREGORIAN
METHOD:PUBLISH
X-WR-CALNAME:Edlink+Connex
X-ORIGINAL-URL:https://edlinkconnex.com/news
X-WR-CALDESC:Events for Edlink+Connex
REFRESH-INTERVAL;VALUE=DURATION:PT1H
X-Robots-Tag:noindex
X-PUBLISHED-TTL:PT1H
BEGIN:VTIMEZONE
TZID:Asia/Jakarta
BEGIN:STANDARD
TZOFFSETFROM:+0700
TZOFFSETTO:+0700
TZNAME:WIB
DTSTART:20250101T000000
END:STANDARD
END:VTIMEZONE
BEGIN:VEVENT
DTSTART;TZID=Asia/Jakarta:20260509T100000
DTEND;TZID=Asia/Jakarta:20260509T120000
DTSTAMP:20260424T235835
CREATED:20260406T170222Z
LAST-MODIFIED:20260417T084338Z
UID:8102-1778320800-1778328000@edlinkconnex.com
SUMMARY:INFO SESSION with UTS COLLEGE BOGOR
DESCRIPTION:Hadiri Exclusive Info Session bersama UTS College dan Edlink+ConneX! Dapatkan info penting mengenai syarat masuk\, pilihan program studi\, info beasiswa serta benefit studi di the best pathway to Australia’s #1 Young University\, UTS College! \n📅 Sabtu\, 9 Mei 2026 \n⏰ 10.00 – 12.00 WIB \n📍 Weekend.ers Bogor \nJl. Pajajaran Indah I No. 1\, Baranangsiang\, Bogor \nTempat terbatas! Segera daftarkan dirimu! \nApa yang Akan Kamu Dapatkan di Info Session? \n\nOne-on-One Consultation: Sesi tanya jawab mendalam dengan Ms. Yuliana Njoo – UTS College Partnership Manager\, Indonesia\nSettlement Allowance: Dapatkan tambahan dana saku sebesar AUD 500* bagi siswa yang melakukan pendaftaran di tempat (on the spot).\nScholarship Assessment: Cek peluang beasiswa kamu secara instan (peluang beasiswa tersedia hingga AUD 8\,000)*\n\n*Syarat & Ketentuan Berlaku \n  \n\n                    INFO SESSION with UTS COLLEGE BOGORINFO SESSION with UTS COLLEGE BOGOR  Full NameMobile Phone NumberEmail AddressCurrent Education Level- Select -Year 10 Equivalent or BelowYear 11 / SMA 2Year 12 / SMA 3FoundationDiplomaName your current school or institution or workplaceInterested Program- Select -Cambridge International AS and A LevelsFoundation StudiesDiplomasUndergraduate DegreeInterested Study Area- Select -Animation ProductionBusinessCommunicationDesign and ArchitectureEngineeringInformation TechnologyLawScienceWhen do you plan to commence your studies at UTS College- Select -June 2026September 2026Beyond 2026Do you have IELTS- Select -YesNoSubmit
URL:https://edlinkconnex.com/news/event/info-session-with-uts-college-bogor/
LOCATION:Weekend.ers\, Jl. Pajajaran Indah I No. 1\, Baranangsiang\, Bogor\, Kota Bogor\, Jawa Barat\, 16143\, Indonesia
ATTACH;FMTTYPE=image/webp:https://edlinkconnex.com/news/wp-content/uploads/2026/04/Banner-WordPress-5.webp
END:VEVENT
BEGIN:VEVENT
DTSTART;TZID=Asia/Jakarta:20260509T110000
DTEND;TZID=Asia/Jakarta:20260509T143000
DTSTAMP:20260424T235835
CREATED:20260406T165357Z
LAST-MODIFIED:20260408T071906Z
UID:8096-1778324400-1778337000@edlinkconnex.com
SUMMARY:Macquarie University Info & Application Day
DESCRIPTION:Wujudkan Mimpi Kuliah di Sydney! Ikuti Macquarie University Info & Application Day 2026. Konsultasi tatap muka langsung dengan perwakilan resmi Macquarie University. Dapatkan panduan pendaftaran\, info beasiswa\, hingga pengajuan visa di satu tempat. \nMengapa Memilih Macquarie University? \n\nTop 1% Global University: Terakreditasi internasional dengan reputasi akademik yang diakui dunia.\nLokasi Strategis: Terletak di jantung kawasan teknologi Sydney\, memberikan akses jaringan industri yang luas.\nKesiapan Kerja: Program magang terintegrasi (PACE) untuk memastikan kamu siap kerja sebelum lulus.\nBeasiswa Melimpah: Tersedia berbagai skema beasiswa khusus untuk mahasiswa Indonesia.\n\nApa yang Akan Kamu Dapatkan di Application Day? \n\nOne-on-One Consultation: Sesi tanya jawab mendalam mengenai pemilihan jurusan dan kampus impian.\nScholarship Assessment: Cek peluang beasiswa kamu secara instan (tersedia potensi hingga AUD\n10\,000*).\nSettlement Allowance: Dapatkan tambahan dana saku sebesar AUD 500* bagi siswa yang melakukan pendaftaran di tempat (on the spot).\n\n*Syarat & Ketentuan Berlaku \nMacquarie University Info & Application Day \nSaturday\, 9 May 2026 \n11:00 – 14:30 WIB \nE+E Coffee & Kitchen Semanggi \nJl. Garnisun Kav. 47\, Setiabudi\, Jakarta \n\n                    Macquarie University Info & Application DayMacquarie University Info & Application Day\n  Full NameMobile Phone NumberEmail AddressCurrent Education Level- Select -SMA 1 / Year 10SMA 2 / Year 11SMA 3 / Year 12SMK / VocationalFoundationDiplomaS1 / BachelorS2 / MasterParentOtherName your current school or institution or workplaceChoose Macquarie University Area Study Options - Select -Arts and social sciencesBusinessEducationEngineeringInformation technologiesLanguages and linguisticsLawScienceMedia\, communication\, and creative artsMedicine and healthPsychology and cognitive scienceSecurity\, intelligence\, and criminologyLevel of Study you are interested in- Select -Bachelor degreePostgraduate studyWhen do you plan to commence your studies at Macquarie University- Select -20262027Beyond 2027Choice of nearest Edlink+ConneX Branch Office- Select -BogorJakarta – SudirmanJakarta – Kelapa GadingJakarta – Pantai Indah KapukJakarta – Kebon JerukJakarta – SimatupangTangerangSubmit
URL:https://edlinkconnex.com/news/event/macquarie-university-info-application-day/
LOCATION:E+E Coffee & Kitchen Semanggi\, Jl. Garnisun No.Kav.47 Semi-Ground Floor\, RT.5/RW.4\, Karet Semanggi\, Kecamatan Setiabudi\, Jakarta Selatan\, Daerah Khusus Ibukota Jakarta\, 10250\, Indonesia
ATTACH;FMTTYPE=image/webp:https://edlinkconnex.com/news/wp-content/uploads/2026/04/Banner-WordPress-8.webp
END:VEVENT
BEGIN:VEVENT
DTSTART;TZID=Asia/Jakarta:20260509T140000
DTEND;TZID=Asia/Jakarta:20260509T180000
DTSTAMP:20260424T235835
CREATED:20260420T155052Z
LAST-MODIFIED:20260420T155632Z
UID:8193-1778335200-1778349600@edlinkconnex.com
SUMMARY:Western Sydney University Indonesia: Surabaya Info Day & Campus Tour
DESCRIPTION:Mulai perjalanan kuliah internasionalmu dengan cara yang lebih fleksibel. Di event ini\, kamu bisa mulai kuliah di Indonesia dan melanjutkannya langsung di Australia bersama Western Sydney University. Kamu akan mendapatkan insight langsung dari perwakilan resmi universitas tentang pilihan jurusan\, proses admission\, hingga peluang beasiswa yang bisa kamu manfaatkan. \nKenapa kamu wajib datang? \n\nJalur fleksibel: mulai kuliah di Indonesia dan lanjut ke Australia dalam durasi studi sekitar tiga tahun\nInformasi lengkap jurusan dan prospek karier global\nPeluang beasiswa hingga 50%\nKonsultasi langsung one on one dengan perwakilan WSU Indonesia\n\nEvent Details \nDate: Sabtu\, 9 Mei 2026 \nTime: 14.00-18.00 WIB \nVenue: Western Sydney University Indonesia (Surabaya Campus) \nPakuwon Tower 35th Floor  \nJl. Embong Malang 21-31\, Surabaya \n  \n\n                    Western Sydney University Indonesia: Surabaya Info Day & Campus TourWestern Sydney University Indonesia: Surabaya Info Day & Campus Tour Full NameEmail AddressWhatsApp Number starting with 62I am best described as a- Select -Current high school studentParent or guardianMasters ApplicantOtherPreferred start date- Select -August 2026February 2027 (Only for Master’s)August 2027 Early EntryMy campus of choice- Select -Indonesia Campus\, SurabayaOur Australian CampusSubmit
URL:https://edlinkconnex.com/news/event/western-sydney-university-indonesia-surabaya-info-day-campus-tour/
LOCATION:WSUI (Surabaya Campus)\, Pakuwon Tower 35t Floor JI. Embong Malang 21-31\, Surabaya\, Jawa Timur\, 60261\, Indonesia
ATTACH;FMTTYPE=image/png:https://edlinkconnex.com/news/wp-content/uploads/2026/04/Banner-WordPress-1.png
END:VEVENT
END:VCALENDAR