BEGIN:VCALENDAR
VERSION:2.0
PRODID:-//Edlink+Connex - ECPv6.15.20//NONSGML v1.0//EN
CALSCALE:GREGORIAN
METHOD:PUBLISH
X-WR-CALNAME:Edlink+Connex
X-ORIGINAL-URL:https://edlinkconnex.com/news
X-WR-CALDESC:Events for Edlink+Connex
REFRESH-INTERVAL;VALUE=DURATION:PT1H
X-Robots-Tag:noindex
X-PUBLISHED-TTL:PT1H
BEGIN:VTIMEZONE
TZID:Asia/Jakarta
BEGIN:STANDARD
TZOFFSETFROM:+0700
TZOFFSETTO:+0700
TZNAME:WIB
DTSTART:20250101T000000
END:STANDARD
END:VTIMEZONE
BEGIN:VEVENT
DTSTART;VALUE=DATE:20260401
DTEND;VALUE=DATE:20260501
DTSTAMP:20260424T224713
CREATED:20260406T155313Z
LAST-MODIFIED:20260407T042351Z
UID:8084-1775001600-1777593599@edlinkconnex.com
SUMMARY:SWINBURNE UNIVERSITY OF TECHNOLOGY SCHOLARSHIP
DESCRIPTION:Kuliah di Luar Negeri Tanpa Boncos! Swinburne University Scholarship 2026 \nInfo beasiswa ini bisa bikin kamu kuliah di luar negeri tanpa boncos! Nggak tanggung-tanggung\, Swinburne University of Technology kasih diskon kuliah sampai 30%* + AUD 1\,000*\, catat detailnya! \nGeorge Swinburne International Excellence Scholarship \nBeasiswa untuk kamu yang memiliki performa akademik yang baik: \n\nBeasiswa sebesar 30%*\nTerbuka untuk mahasiswa internasional jenjang S1 dan S2\nBerlaku untuk perkuliahan di Swinburne Hawthorn Campus di 2026\nBerdasarkan performa akademik yang baik\n\nAUD 1\,000 Study Grant (Semester 2\, 2026)* \nPotongan biaya tambahan untuk keberangkatan Semester 2 tahun 2026: \n\nPotongan biaya untuk 1x pembayaran\nTerbuka untuk mahasiswa yang memiliki offer dari 27 Feb – 3 Juli 2026\nDapat digabung dengan beasiswa lain\n\n\n                    SWINBURNE UNIVERSITY OF TECHNOLOGY SCHOLARSHIPSWINBURNE UNIVERSITY OF TECHNOLOGY\nSCHOLARSHIP\n  Full NameMobile Phone NumberEmail AddressCurrent Education Level- Select -Year 10 Equivalent or BelowYear 11 / SMA 2Year 12 / SMA 3FoundationDiplomaBachelor Degree / S1Master Degree / S2ParentName Your Current or Previous School / University / WorkplaceWhat Level of Study Are You Interested in- Select -DiplomasBachelor DegreesMaster DegreesGraduate DiplomasGraduate CertificatesDoctor of PhilosophyCourse Interest at Swinburne University of Technology- Select -Arts\, Humanities and Social SciencesAviationBuilt Environment and ArchitectureBusinessDesignEducationEngineeringFilm and TelevisionGames and AnimationHealthInformation TechnologyLawMedia and CommunicationNursingPsychologyScienceTrades and ApprenticeshipsChoose Your Nearest Edlink+ConneX Branch:- Select -BandungBogorCirebonDenpasarJakarta – SudirmanJakarta – Kelapa GadingJakarta – Pantai Indah KapukJakarta – Kebon JerukJakarta – SimatupangJambiMakassarMalangManokwariMedanPadangPalembangPekanbaruSoloSurabayaTangerangYogyakartaSubmit
URL:https://edlinkconnex.com/news/event/swinburne-university-of-technology-scholarship/
LOCATION:Edlink+ConneX
ATTACH;FMTTYPE=image/webp:https://edlinkconnex.com/news/wp-content/uploads/2026/04/Banner-WordPress-3.webp
END:VEVENT
END:VCALENDAR