BEGIN:VCALENDAR
VERSION:2.0
PRODID:-//Edlink+Connex - ECPv6.15.20//NONSGML v1.0//EN
CALSCALE:GREGORIAN
METHOD:PUBLISH
X-WR-CALNAME:Edlink+Connex
X-ORIGINAL-URL:https://edlinkconnex.com/news
X-WR-CALDESC:Events for Edlink+Connex
REFRESH-INTERVAL;VALUE=DURATION:PT1H
X-Robots-Tag:noindex
X-PUBLISHED-TTL:PT1H
BEGIN:VTIMEZONE
TZID:Asia/Jakarta
BEGIN:STANDARD
TZOFFSETFROM:+0700
TZOFFSETTO:+0700
TZNAME:WIB
DTSTART:20250101T000000
END:STANDARD
END:VTIMEZONE
BEGIN:VEVENT
DTSTART;TZID=Asia/Jakarta:20260328T100000
DTEND;TZID=Asia/Jakarta:20260328T130000
DTSTAMP:20260425T001401
CREATED:20260307T033251Z
LAST-MODIFIED:20260308T170046Z
UID:7928-1774692000-1774702800@edlinkconnex.com
SUMMARY:Study in Nordic Info Session
DESCRIPTION:Discover World-Class Learning in Northern Europe. Negara Nordik seperti Finlandia dan Swedia dikenal memiliki sistem pendidikan terbaik di dunia. Selain kualitas akademik yang tinggi\, negara-negara ini juga menawarkan lingkungan belajar yang inovatif\, aman\, dan mendukung perkembangan karier global. Melalui sesi online ini\, kamu akan mendapatkan gambaran lengkap tentang bagaimana mempersiapkan studi di negara Nordik bersama konsultan Edlink+ConneX. Mulai dari proses admission\, pilihan universitas\, hingga peluang beasiswa akan dibahas secara jelas agar kamu bisa merencanakan studi ke Eropa dengan lebih percaya diri. Jika kamu tertarik kuliah di Eropa dengan kualitas pendidikan kelas dunia\, sesi ini wajib kamu ikuti. \nApa yang akan dibahas? \n\nPersiapan studi ke negara Nordik\, khususnya Finlandia dan Swedia\nSyarat masuk dan dokumen yang perlu disiapkan\nPilihan universitas dan program studi populer\nEstimasi biaya kuliah dan biaya hidup\n\nEvent Details \nTanggal: Saturday\, 28 March 2026 \nWaktu: 10.00 hingga 13.00 WIB \nLokasi: Online via Zoom \nSiap mulai perjalanan studimu ke Eropa? \nAmbil langkah pertama untuk meraih pendidikan kelas dunia di negara Nordik bersama Edlink+ConneX.
URL:https://edlinkconnex.com/news/event/study-in-nordic/
LOCATION:Online via ZOOM
ATTACH;FMTTYPE=image/png:https://edlinkconnex.com/news/wp-content/uploads/2026/03/Banner-WordPress.png
END:VEVENT
END:VCALENDAR