BEGIN:VCALENDAR
VERSION:2.0
PRODID:-//Edlink+Connex - ECPv6.15.20//NONSGML v1.0//EN
CALSCALE:GREGORIAN
METHOD:PUBLISH
X-WR-CALNAME:Edlink+Connex
X-ORIGINAL-URL:https://edlinkconnex.com/news
X-WR-CALDESC:Events for Edlink+Connex
REFRESH-INTERVAL;VALUE=DURATION:PT1H
X-Robots-Tag:noindex
X-PUBLISHED-TTL:PT1H
BEGIN:VTIMEZONE
TZID:Asia/Jakarta
BEGIN:STANDARD
TZOFFSETFROM:+0700
TZOFFSETTO:+0700
TZNAME:WIB
DTSTART:20250101T000000
END:STANDARD
END:VTIMEZONE
BEGIN:VEVENT
DTSTART;TZID=Asia/Jakarta:20260314T100000
DTEND;TZID=Asia/Jakarta:20260314T100000
DTSTAMP:20260425T001401
CREATED:20260211T074411Z
LAST-MODIFIED:20260218T070600Z
UID:7805-1773482400-1773482400@edlinkconnex.com
SUMMARY:UNIVERSITY OF SYDNEY INFORMATION SESSION
DESCRIPTION:Tertarik kuliah di salah satu universitas terbaik dunia? Ini kesempatanmu untuk mengenal lebih dekat The University of Sydney\, kampus peringkat top global yang dikenal dengan kualitas akademik\, riset inovatif\, dan jaringan karier internasional yang kuat. Melalui sesi informasi eksklusif ini\, kamu bisa mendapatkan insight langsung mengenai pilihan jurusan\, peluang beasiswa\, hingga strategi mempersiapkan studi di Australia bersama perwakilan resmi University of Sydney. \nCari tahu bagaimana pengalaman kuliah kelas dunia bisa membuka peluang masa depan yang lebih luas untukmu. \nKenapa kamu wajib ikut University of Sydney Information Session ini? \n\nDapatkan insight langsung dari perwakilan resmi The University of Sydney tentang jurusan unggulan\, peluang karier global\, serta strategi aplikasi yang tepat\nPelajari detail Sydney International Student Award hingga 20%* dan pahami timeline intake terbaru\nTanyakan langsung rencana studi kamu melalui sesi tanya jawab interaktif\nKenali salah satu universitas terbaik dunia yang menempati peringkat 1 di Australia versi QS World University Rankings 2026\nDapatkan tambahan dana saku sebesar AUD 500* bagi siswa yang melakukan pendaftaran (on the spot)\n\n*Syarat dan Ketentuan Berlaku \nEvent Details \nTanggal: Saturday\, 14 March 2026Waktu: 10.00 WIBLokasi: Online via Zoom \nSpeaker \nMr. Riko KhoSr. Country Manager IndonesiaThe University of Sydney \nMore Info: 0811 8808 8969
URL:https://edlinkconnex.com/news/event/university-of-sydney-information-session/
LOCATION:Online via ZOOM
ATTACH;FMTTYPE=image/webp:https://edlinkconnex.com/news/wp-content/uploads/2026/02/Banner-WordPress-USYD-Info-Session-14-Mar-2026.webp
END:VEVENT
BEGIN:VEVENT
DTSTART;TZID=Asia/Jakarta:20260314T100000
DTEND;TZID=Asia/Jakarta:20260314T130000
DTSTAMP:20260425T001401
CREATED:20260301T161420Z
LAST-MODIFIED:20260301T162337Z
UID:7876-1773482400-1773493200@edlinkconnex.com
SUMMARY:Study in UK Info Session
DESCRIPTION:UK selalu jadi destinasi favorit untuk pendidikan kelas dunia. Dengan sistem pendidikan yang kuat\, durasi studi yang lebih singkat\, dan reputasi global yang tinggi\, kuliah di UK bisa jadi investasi masa depan yang sangat strategis. Melalui sesi online ini\, kamu akan mendapatkan panduan lengkap tentang bagaimana mempersiapkan studi ke UK bersama konsultan Edlink+ConneX. Semua akan dibahas secara jelas dan praktis\, supaya kamu tidak salah langkah dalam proses aplikasi. Kalau kamu serius ingin kuliah di UK\, ini sesi yang tidak boleh dilewatkan. \nApa yang akan dibahas? \n\nPersiapan studi ke UK dari awal hingga siap apply\nSyarat masuk dan dokumen yang perlu dipersiapkan\nPilihan universitas top dan program studi populer\nEstimasi biaya kuliah dan biaya hidup\n\nEvent Details \nTanggal: Saturday\, 14 March 2026 \nWaktu: 10.00 hingga 13.00 WIB \nLokasi: Online via Zoom \nRSVP sekarang: \n  \n\n  \nButuh info lebih lanjut? \nWhatsApp: +62 817 716 899 \nWebsite: www.edlinkconnex.com \nInstagram: @edlinkconnextangerang
URL:https://edlinkconnex.com/news/event/study-in-uk-info-session/
LOCATION:Online via ZOOM
ATTACH;FMTTYPE=image/webp:https://edlinkconnex.com/news/wp-content/uploads/2026/03/Banner-Wordpress-2.webp
END:VEVENT
BEGIN:VEVENT
DTSTART;TZID=Asia/Jakarta:20260314T110000
DTEND;TZID=Asia/Jakarta:20260314T140000
DTSTAMP:20260425T001401
CREATED:20260221T051621Z
LAST-MODIFIED:20260221T055227Z
UID:7849-1773486000-1773496800@edlinkconnex.com
SUMMARY:THE UNIVERSITY OF WESTERN AUSTRALIA INFO SESSION
DESCRIPTION:Punya rencana kuliah di Australia? Yuk kenalan lebih dekat dengan The University of Western Australia (UWA)\, salah satu universitas Top 100 dunia yang berlokasi di Perth\, kota yang dikenal nyaman untuk pelajar internasional. Di sesi ini\, kamu akan mendapat penjelasan langsung dari perwakilan resmi UWA tentang proses admission\, tips supaya aplikasimu makin kompetitif\, sampai peluang mendapatkan scholarship bernilai besar. Cocok banget buat kamu yang ingin mulai langkah serius menuju studi di Australia. \nKenapa kamu perlu ikut? \n\nDengar langsung info resmi dari tim The University of Western Australia\nPelajari admission process dan strategi bikin aplikasi yang lebih kuat\nCari tahu peluang scholarship hingga AUD 48.000*\nKenali lebih jauh kampus Top 100 dunia versi QS WUR 2025\nTanya langsung semua hal tentang rencana studi kamu\n\n*Syarat dan Ketentuan Berlaku \nMeet the Speaker \nMs. Ima Dewi (Sr. Regional Manager Indonesia and The Philippines – The University of Western Australia) \nEvent Details \nTanggal: Sabtu\, 14 Maret 2026 \nWaktu: 11.00 hingga 14.00 WIB \nLokasi: Edlink+ConneX Kelapa Gading \nMenara Satu Sentra Kriya\, Jakarta Room \n 
URL:https://edlinkconnex.com/news/event/the-university-of-western-australia-info-session/
LOCATION:Edlink+ConneX – Kelapa Gading\, Menara Satu Sentra Kriya Lt. 1 (Karimun Room)\, Jl. Boulevard Timur LA 3 No. 1\, Kelapa Gading\, Jakarta Utara\, Jakarta\, DKI Jakarta\, 14240\, Indonesia
ATTACH;FMTTYPE=image/webp:https://edlinkconnex.com/news/wp-content/uploads/2026/02/Banner-WordPress.webp
END:VEVENT
END:VCALENDAR