BEGIN:VCALENDAR
VERSION:2.0
PRODID:-//Edlink+Connex - ECPv6.15.20//NONSGML v1.0//EN
CALSCALE:GREGORIAN
METHOD:PUBLISH
X-WR-CALNAME:Edlink+Connex
X-ORIGINAL-URL:https://edlinkconnex.com/news
X-WR-CALDESC:Events for Edlink+Connex
REFRESH-INTERVAL;VALUE=DURATION:PT1H
X-Robots-Tag:noindex
X-PUBLISHED-TTL:PT1H
BEGIN:VTIMEZONE
TZID:Asia/Jakarta
BEGIN:STANDARD
TZOFFSETFROM:+0700
TZOFFSETTO:+0700
TZNAME:WIB
DTSTART:20250101T000000
END:STANDARD
END:VTIMEZONE
BEGIN:VEVENT
DTSTART;TZID=Asia/Jakarta:20260306T080000
DTEND;TZID=Asia/Jakarta:20260306T170000
DTSTAMP:20260425T001351
CREATED:20260306T043831Z
LAST-MODIFIED:20260306T043929Z
UID:7899-1772784000-1772816400@edlinkconnex.com
SUMMARY:test event
DESCRIPTION:
URL:https://edlinkconnex.com/news/event/test-event/
END:VEVENT
BEGIN:VEVENT
DTSTART;TZID=Asia/Jakarta:20260306T160000
DTEND;TZID=Asia/Jakarta:20260306T183000
DTSTAMP:20260425T001351
CREATED:20260128T084456Z
LAST-MODIFIED:20260202T041958Z
UID:7752-1772812800-1772821800@edlinkconnex.com
SUMMARY:Macquarie University Application Day
DESCRIPTION:Wujudkan Mimpi Kuliah di Sydney! Ikuti Macquarie University Application Day 2026. Konsultasi tatap muka langsung dengan perwakilan resmi Macquarie University. Dapatkan panduan pendaftaran\, info beasiswa\, hingga pengajuan visa di satu tempat. \nMengapa Memilih Macquarie University? \n\nTop 1% Global University: Terakreditasi internasional dengan reputasi akademik yang diakui dunia.\nLokasi Strategis: Terletak di jantung kawasan teknologi Sydney\, memberikan akses jaringan industri yang luas.\nKesiapan Kerja: Program magang terintegrasi (PACE) untuk memastikan kamu siap kerja sebelum lulus.\nBeasiswa Melimpah: Tersedia berbagai skema beasiswa khusus untuk mahasiswa Indonesia.\n\nApa yang Akan Kamu Dapatkan di Application Day? \n\nOne-on-One Consultation: Sesi tanya jawab mendalam mengenai pemilihan jurusan dan kampus impian.\nScholarship Assessment: Cek peluang beasiswa kamu secara instan (tersedia potensi hingga AUD 10\,000*).\nSettlement Allowance: Dapatkan tambahan dana saku sebesar AUD 500* bagi siswa yang melakukan pendaftaran di tempat (on the spot).\n\n*Syarat & Ketentuan Berlaku
URL:https://edlinkconnex.com/news/event/macquarie-university-application-day/
LOCATION:Edlink+ConneX – Kelapa Gading\, Menara Satu Sentra Kriya Lt. 1 (Karimun Room)\, Jl. Boulevard Timur LA 3 No. 1\, Kelapa Gading\, Jakarta Utara\, Jakarta\, DKI Jakarta\, 14240\, Indonesia
ATTACH;FMTTYPE=image/webp:https://edlinkconnex.com/news/wp-content/uploads/2026/01/Image-Website-MCQ-App-Day-2026.webp
END:VEVENT
END:VCALENDAR