BEGIN:VCALENDAR
VERSION:2.0
PRODID:-//Edlink+Connex - ECPv6.15.20//NONSGML v1.0//EN
CALSCALE:GREGORIAN
METHOD:PUBLISH
X-ORIGINAL-URL:https://edlinkconnex.com/news
X-WR-CALDESC:Events for Edlink+Connex
REFRESH-INTERVAL;VALUE=DURATION:PT1H
X-Robots-Tag:noindex
X-PUBLISHED-TTL:PT1H
BEGIN:VTIMEZONE
TZID:Asia/Jakarta
BEGIN:STANDARD
TZOFFSETFROM:+0700
TZOFFSETTO:+0700
TZNAME:WIB
DTSTART:20250101T000000
END:STANDARD
END:VTIMEZONE
BEGIN:VEVENT
DTSTART;TZID=Asia/Jakarta:20260228T100000
DTEND;TZID=Asia/Jakarta:20260228T120000
DTSTAMP:20260425T000912
CREATED:20260219T042122Z
LAST-MODIFIED:20260219T043205Z
UID:7834-1772272800-1772280000@edlinkconnex.com
SUMMARY:ICMS Alumni Sharing Session. Unlock Your Future: Study\, Live\, and Thrive in Sydney
DESCRIPTION:Mau kuliah di Australia tapi masih overthinking soal adaptasi\, biaya hidup\, atau peluang kerja setelah lulus? We got you! Bergabunglah di ICMS Alumni Sharing Session. Ini bukan seminar biasa—kita akan bedah tuntas bagaimana caranya kamu nggak cuma sekadar kuliah\, tapi benar-benar “Thrive” (berkembang pesat) di Sydney. Dapatkan panduan langsung dari Ms. Yuliana Hartanto dan alumni sukses yang sudah membuktikannya. \nDi sesi ini\, kamu bakal mendapatkan: \n\nScholarship & Admission Intel: Update jalur masuk eksklusif dan peluang beasiswa terbaru dari ICMS.\nReal Life Survival Guide: Tips praktis (bukan teori!) tentang cara bertahan hidup\, cari tempat tinggal\, dan bergaul di Sydney dari kacamata alumni.\nCareer Blueprint: Cari tahu kenapa ICMS disebut sebagai “Australia’s leader in graduate employment”. Spoiler: Karena ada Professional Placement di SETIAP gelar!\nCampus Vibes: Intip kehidupan di salah satu kampus terindah di dunia dengan mentorship langsung dari industry leaders.\n\nCatat tanggalnya dan jangan sampai kelewatan! \n\nHari/Tanggal: Sabtu\, 28 Februari 2026\nWaktu: 10:00 – 12:00 WIB\nPlatform: Live via ZOOM\nSpeaker: Ms. Yuliana Hartanto – Country Manager (Indonesia)\n\nKhusus peserta yang hadir dan melakukan pendaftaran (Apply on the spot)\, kamu berhak mendapatkan benefit spesial: \n\nCashback IELTS Test Fee*\nAdditional Settlement Allowance senilai AUD 300*\n\n*Syarat & Ketentuan Berlaku \n 
URL:https://edlinkconnex.com/news/event/icms-alumni-sharing-session-unlock-your-future-study-live-and-thrive-in-sydney/
LOCATION:Online via ZOOM
ATTACH;FMTTYPE=image/webp:https://edlinkconnex.com/news/wp-content/uploads/2026/02/Banner-ICMS.webp
END:VEVENT
END:VCALENDAR