BEGIN:VCALENDAR
VERSION:2.0
PRODID:-//Edlink+Connex - ECPv6.15.20//NONSGML v1.0//EN
CALSCALE:GREGORIAN
METHOD:PUBLISH
X-ORIGINAL-URL:https://edlinkconnex.com/news
X-WR-CALDESC:Events for Edlink+Connex
REFRESH-INTERVAL;VALUE=DURATION:PT1H
X-Robots-Tag:noindex
X-PUBLISHED-TTL:PT1H
BEGIN:VTIMEZONE
TZID:Asia/Jakarta
BEGIN:STANDARD
TZOFFSETFROM:+0700
TZOFFSETTO:+0700
TZNAME:WIB
DTSTART:20240101T000000
END:STANDARD
END:VTIMEZONE
BEGIN:VEVENT
DTSTART;VALUE=DATE:20251103
DTEND;VALUE=DATE:20260225
DTSTAMP:20260425T044733
CREATED:20251031T031849Z
LAST-MODIFIED:20260204T034326Z
UID:7473-1762128000-1771977599@edlinkconnex.com
SUMMARY:WEBINAR SERIES
DESCRIPTION:WEBINAR SERIES by Edlink+ConneX x LingGo English \nJoin our Monthly Webinar Sessions from Top Australia\, Malaysia\, and Singapore Institutions! \nTingkatkan wawasan dan persiapkan masa depan akademikmu lewat Webinar Series eksklusif dari Edlink+ConneX dan LingGo English! \nSetiap bulan\, kamu bisa: \n\nMendapatkan informasi terbaru langsung dari universitas ternama di Australia\, Malaysia\, dan Singapura.\nBelajar tips sukses studi dan persiapan beasiswa luar negeri.\nKonsultasi langsung dengan perwakilan universitas & konselor berpengalaman Edlink+ConneX.\nMeningkatkan kemampuan bahasa Inggris bersama LingGo English\, platform persiapan IELTS dan akademik pilihan pelajar Indonesia.\n\nDaftar dan mulai langkah pertamamu menuju studi internasional!
URL:https://edlinkconnex.com/news/event/webinar-series/
LOCATION:Online Zoom
ATTACH;FMTTYPE=image/jpeg:https://edlinkconnex.com/news/wp-content/uploads/2025/10/Banner-WordPress-LingGo.jpg
END:VEVENT
BEGIN:VEVENT
DTSTART;TZID=Asia/Jakarta:20251121T140000
DTEND;TZID=Asia/Jakarta:20251121T180000
DTSTAMP:20260425T044733
CREATED:20251107T070755Z
LAST-MODIFIED:20251107T081623Z
UID:7518-1763733600-1763748000@edlinkconnex.com
SUMMARY:MONASH UNIVERSITY INFO SESSION PADANG
DESCRIPTION:Kuliah di salah satu universitas TOP dunia di Melbourne\, Australia ? Konsultasikan dirimu langsung dengan perwakilan resmi Monash University di acara 𝐌𝐨𝐧𝐚𝐬𝐡 𝐔𝐧𝐢𝐯𝐞𝐫𝐬𝐢𝐭𝐲 𝐈𝐧𝐟𝐨𝐫𝐦𝐚𝐭𝐢𝐨𝐧 𝐒𝐞𝐬𝐬𝐢𝐨𝐧 untuk mendapatkan informasi terlengkap dan terbaru mengenai:\n1. Syarat Masuk\n2. Program Studi\n3. Peluang Beasiswa\n4. Prospek karir \nCatat tanggalnya! \n📅 Jumat\, 21 November 2025\n⏰ 14.00 – 18.00 WIB\n📍Truntum Padang Hotel. Jl. Gereja No.34\, Belakang Tangsi\, Kec. Padang Barat. Kota Padang\, Sumatera Barat 25118
URL:https://edlinkconnex.com/news/event/monash-university-info-session-padang/
LOCATION:Truntum Padang Hotel\, Jl. Gereja No.34\, Belakang Tangsi\, Kec. Padang Barat. Kota Padang\, Sumatera Barat 25118\, Sumatera Barat\, 25118\, Indonesia
ATTACH;FMTTYPE=image/jpeg:https://edlinkconnex.com/news/wp-content/uploads/2025/11/REV-Monash-AU-Information-Session-PADANG-Image-Web.jpg
END:VEVENT
END:VCALENDAR