BEGIN:VCALENDAR
VERSION:2.0
PRODID:-//Edlink+Connex - ECPv6.15.20//NONSGML v1.0//EN
CALSCALE:GREGORIAN
METHOD:PUBLISH
X-ORIGINAL-URL:https://edlinkconnex.com/news
X-WR-CALDESC:Events for Edlink+Connex
REFRESH-INTERVAL;VALUE=DURATION:PT1H
X-Robots-Tag:noindex
X-PUBLISHED-TTL:PT1H
BEGIN:VTIMEZONE
TZID:Asia/Jakarta
BEGIN:STANDARD
TZOFFSETFROM:+0700
TZOFFSETTO:+0700
TZNAME:WIB
DTSTART:20240101T000000
END:STANDARD
END:VTIMEZONE
BEGIN:VEVENT
DTSTART;TZID=Asia/Jakarta:20251026T100000
DTEND;TZID=Asia/Jakarta:20251026T160000
DTSTAMP:20260425T055814
CREATED:20251006T170424Z
LAST-MODIFIED:20251006T171315Z
UID:7274-1761472800-1761494400@edlinkconnex.com
SUMMARY:MONASH BACHELOR PROGRAMS OPEN DAY
DESCRIPTION:Join us at Monash University\, Indonesia’s Open Day and discover world-class education opportunities\, state-of-the-art facilities\, and your pathway to success! \nDate and time: Sunday\, 26 October 2025 at 10.00 AM – 4 PM WIB \nLocation: Monash University\, Indonesia BSD Campus \n\n\nWhat to Expect at Open Day? \n\nExplore Programs – Learn all about our undergraduate offerings through course info sessions and dedicated consultations.\nExperience Monash Life – Discover our student community\, wellbeing and employability support\, and join interactive activities that bring Monash life to you.\nYour Future Classroom & Network – Step into our classrooms of the future with micro-class demos\, VR/AR experiences\, and connect with alumni sharing their journeys.\nCampus Tour & Fun Corners – Join The Breeze Tour to explore our facilities and enjoy activations designed to give you a taste of belonging at Monash.
URL:https://edlinkconnex.com/news/event/monash-bachelor-programs-open-day/
LOCATION:Monash University\, Indonesia\, Green Office 9 Building\, Jl. BSD Green Office Park\, Sampora\, Cisauk\, Tangerang Regency\, Banten\, 15345
ATTACH;FMTTYPE=image/jpeg:https://edlinkconnex.com/news/wp-content/uploads/2025/10/Monash-Indonesia-UG-Open-Day-Image-Web.jpg
END:VEVENT
END:VCALENDAR