BEGIN:VCALENDAR
VERSION:2.0
PRODID:-//Edlink+Connex - ECPv6.15.20//NONSGML v1.0//EN
CALSCALE:GREGORIAN
METHOD:PUBLISH
X-ORIGINAL-URL:https://edlinkconnex.com/news
X-WR-CALDESC:Events for Edlink+Connex
REFRESH-INTERVAL;VALUE=DURATION:PT1H
X-Robots-Tag:noindex
X-PUBLISHED-TTL:PT1H
BEGIN:VTIMEZONE
TZID:Asia/Jakarta
BEGIN:STANDARD
TZOFFSETFROM:+0700
TZOFFSETTO:+0700
TZNAME:WIB
DTSTART:20240101T000000
END:STANDARD
END:VTIMEZONE
BEGIN:VEVENT
DTSTART;TZID=Asia/Jakarta:20251025T130000
DTEND;TZID=Asia/Jakarta:20251025T160000
DTSTAMP:20260425T055735
CREATED:20251002T171553Z
LAST-MODIFIED:20251002T173310Z
UID:7174-1761397200-1761408000@edlinkconnex.com
SUMMARY:The Scent of Success: Craft Your Future with The World's #3 Hospitality Schools
DESCRIPTION:Workshop eksklusif di Tangerang untuk kamu yang ingin merancang karir global di industri luxury dan hospitality. Belajar langsung dari Swiss Education Group\, pemimpin global dengan jaringan sekolah perhotelan peringkat #3 di dunia\, dan dapatkan pengalaman yang tak terlupakan. \nApa yang Akan Kamu Dapatkan? \n\nWorkshop Meracik Parfum Eksklusif Belajar langsung dari ahlinya dan ciptakan signature scent yang mewakili kepribadianmu.\nWawasan Strategi Luxury Branding Dapatkan rahasia di balik cara membangun merek mewah yang berkelas dan diakui secara global.\nPanduan Beasiswa LPDP ke Swiss Pahami cara dan strategi untuk mendanai studimu di sekolah perhotelan terbaik dengan beasiswa LPDP.\nKonsultasi Langsung dengan Perwakilan Kampus Kesempatan langka untuk bertanya dan berdiskusi langsung dengan perwakilan resmi dari Swiss Education Group.\n\nCatat Waktu & Tempatnya: \nHari\, Tanggal: Sabtu\, 25 Oktober 2025 \nWaktu: 13.00 – 16.00 WIB \nLokasi: Edlink+ConneX Tangerang \nUniversitas Multimedia Nusantara (UMN) Building C\, Level 11 Skystar Ventures – Cygnus Room Jl. Scientia Boulevard\, Gading Serpong \n\nHubungi : 0817 716 899 / 0878 7417 7788 untuk info lebih lanjut
URL:https://edlinkconnex.com/news/event/the-scent-of-success-craft-your-future-with-the-worlds-3-hospitality-schools/
LOCATION:Edlink+ConneX Tangerang\, Universitas Multimedia Nusantara\, Skystar Ventures - Cygnus Room\, Jl. Scientia Boulevard C - 11th Floor\, Gading\, Kelapa Dua\, Tangerang Regency\, Banten\, 15811\, Indonesia
ATTACH;FMTTYPE=image/jpeg:https://edlinkconnex.com/news/wp-content/uploads/2025/10/SEG-Workshop-Tangerang-Image-Web.jpg
END:VEVENT
END:VCALENDAR