BEGIN:VCALENDAR
VERSION:2.0
PRODID:-//Edlink+Connex - ECPv6.15.20//NONSGML v1.0//EN
CALSCALE:GREGORIAN
METHOD:PUBLISH
X-ORIGINAL-URL:https://edlinkconnex.com/news
X-WR-CALDESC:Events for Edlink+Connex
REFRESH-INTERVAL;VALUE=DURATION:PT1H
X-Robots-Tag:noindex
X-PUBLISHED-TTL:PT1H
BEGIN:VTIMEZONE
TZID:Asia/Jakarta
BEGIN:STANDARD
TZOFFSETFROM:+0700
TZOFFSETTO:+0700
TZNAME:WIB
DTSTART:20240101T000000
END:STANDARD
END:VTIMEZONE
BEGIN:VEVENT
DTSTART;TZID=Asia/Jakarta:20251017T150000
DTEND;TZID=Asia/Jakarta:20251017T170000
DTSTAMP:20260425T055707
CREATED:20251001T165548Z
LAST-MODIFIED:20251002T064830Z
UID:7131-1760713200-1760720400@edlinkconnex.com
SUMMARY:UTS College Info Session
DESCRIPTION:Tahukah kamu? UTS masuk Top 100 dunia dan kamu bisa masuk ke sana lewat jalur yang pasti: UTS College! \nDari Bandung\, kamu bisa mulai perjalanan itu lewat 𝗨𝗧𝗦 𝗖𝗼𝗹𝗹𝗲𝗴𝗲 𝗜𝗻𝗳𝗼 𝗦𝗲𝘀𝘀𝗶𝗼𝗻 \nCatat tanggalnya! \n📅 Jumat\, 17 Oktober 2025 \n🕒 15.00 – 18.00 WIB \n📍 Edlink+ConneX Bandung \nJl. Kaca-kaca Wetan No. 3C Bandung 40261 \n👤 Special Speaker: \nMs. Lilies Agustine \nSenior Partner Manager UTS College \n  \nDaftar GRATIS UTS College Info Session \n\nHubungi 0896 0555 2828 / 0811 222 5008 untuk info lebih lanjut \n 
URL:https://edlinkconnex.com/news/event/uts-college-info-session-bandung/
LOCATION:Edlink+ConneX Bandung\, Jl. Kaca-kaca Wetan No. 3C Bandung 40261\, Bandung\, Jawa Barat\, Indonesia
ATTACH;FMTTYPE=image/png:https://edlinkconnex.com/news/wp-content/uploads/2025/10/Screenshot-2025-10-01-at-23.31.41-1.png
END:VEVENT
END:VCALENDAR