BEGIN:VCALENDAR
VERSION:2.0
PRODID:-//Edlink+Connex - ECPv6.15.20//NONSGML v1.0//EN
CALSCALE:GREGORIAN
METHOD:PUBLISH
X-WR-CALNAME:Edlink+Connex
X-ORIGINAL-URL:https://edlinkconnex.com/news
X-WR-CALDESC:Events for Edlink+Connex
REFRESH-INTERVAL;VALUE=DURATION:PT1H
X-Robots-Tag:noindex
X-PUBLISHED-TTL:PT1H
BEGIN:VTIMEZONE
TZID:Asia/Jakarta
BEGIN:STANDARD
TZOFFSETFROM:+0700
TZOFFSETTO:+0700
TZNAME:WIB
DTSTART:20240101T000000
END:STANDARD
END:VTIMEZONE
BEGIN:VEVENT
DTSTART;TZID=Asia/Jakarta:20251011T100000
DTEND;TZID=Asia/Jakarta:20251011T160000
DTSTAMP:20260425T055554
CREATED:20251006T163931Z
LAST-MODIFIED:20251006T165808Z
UID:7262-1760176800-1760198400@edlinkconnex.com
SUMMARY:MONASH UNIVERSITY\, INDONESIA POSTGRADUATE INFO DAY
DESCRIPTION:Step into a day of inspiration\, discovery\, and next-level learning at Info Day by Monash University\, Indonesia. \nWhat to Expect at Info Day? \nDate: Saturday\, 11 October 2025\nTime: 10.00 AM – 04.00 PM WIB*\nVenue: Pullman Hotel\, Thamrin\, Jakarta Pusat \n*ONLY SNACKS ARE PROVIDED \n\nFind out about our postgraduate programs\nExperience multiple course information presentations\nMeet our academics\nDiscuss your study options with our Admissions Adviser
URL:https://edlinkconnex.com/news/event/monash-university-indonesia-postgraduate-info-day/
LOCATION:Pullman Jakarta Indonesia\, Jl. M.H. Thamrin No.59\, Gondangdia\, Kec. Menteng\, Kota Jakarta Pusat\,\, Jakarta\, Daerah Khusus Ibukota Jakarta\, 10350\, Indonesia
ATTACH;FMTTYPE=image/jpeg:https://edlinkconnex.com/news/wp-content/uploads/2025/10/Monash-Indonesia-PG-Info-Day-Image-Web.jpg
END:VEVENT
END:VCALENDAR