BEGIN:VCALENDAR
VERSION:2.0
PRODID:-//Edlink+Connex - ECPv6.15.20//NONSGML v1.0//EN
CALSCALE:GREGORIAN
METHOD:PUBLISH
X-ORIGINAL-URL:https://edlinkconnex.com/news
X-WR-CALDESC:Events for Edlink+Connex
REFRESH-INTERVAL;VALUE=DURATION:PT1H
X-Robots-Tag:noindex
X-PUBLISHED-TTL:PT1H
BEGIN:VTIMEZONE
TZID:Asia/Jakarta
BEGIN:STANDARD
TZOFFSETFROM:+0700
TZOFFSETTO:+0700
TZNAME:WIB
DTSTART:20240101T000000
END:STANDARD
END:VTIMEZONE
BEGIN:VEVENT
DTSTART;TZID=Asia/Jakarta:20250927T100000
DTEND;TZID=Asia/Jakarta:20250927T130000
DTSTAMP:20260425T070727
CREATED:20250924T064428Z
LAST-MODIFIED:20250924T070902Z
UID:6995-1758967200-1758978000@edlinkconnex.com
SUMMARY:Coffee Talk with Victoria University of Wellington
DESCRIPTION:Ngopi santai sambil cari tau soal kuliah di New Zealand 🇳🇿? Bisa banget! \nJoin ☕ Coffee Talk with Victoria University of Wellington 💚 dan ngobrol langsung mengenai jurusan\, beasiswa\, kehidupan di Wellington\, dan proses kuliah di New Zealand bareng perwakilan kampusnya! \n📅 Sabtu\, 27 September 2025\n🕙 10.00 – 13.00 WIB\n📍 E+E Coffee & Kitchen\, Semanggi\, Jakarta Selatan\n💻 Available via ZOOM \n👤 Special Guest:\nMr. Dean Dinh\nVictoria University of Wellington\nInternational Manager\, Southeast Asia \nDaftar GRATIS sekarang \nInfo lebih lanjut kontak 📞 0822 1148 6805 \n 
URL:https://edlinkconnex.com/news/event/coffee-talk-with-victoria-university-of-wellington/
LOCATION:Online Zoom
ATTACH;FMTTYPE=image/jpeg:https://edlinkconnex.com/news/wp-content/uploads/2025/09/26-Jun-2025-1.jpg
END:VEVENT
END:VCALENDAR